Workbook

Sheet Questions
E1: 1 | F1: 2 | G1: 3 | H1: 4 | I1: 5 | J1: 6 | K1: 7 | L1: 8 | M1: 9 | N1: 10
E2: NEVER | F2: ALMOST NEVER | G2: OCCASIONALLY | I2: SOMETIMES | K2: OFTEN | L2: VERY OFTEN | M2: NEARLY ALWAYS | N2: ALWAYS
A3: A | C3: 1 | D3: I don't sugar coat anything. I can offend people by being blunt but brutal truth is better in my opinion. | P3: 5
A4: E | C4: 2 | D4: I am able to communicate the goodness of God and why people need Jesus. | P4: 5
A5: A | C5: 3 | D5: I feel called to equip, train and lead others into maturity for ministry. | P5: 5
A6: E | C6: 4 | D6: I can adapt to whatever my surroundings are. I am comfortable almost anywhere. | P6: 5
A7: S | C7: 5 | D7: I really have a heart for those who have had struggles and challenges in life. | P7: 5
A8: P | C8: 6 | D8: I frequently get a gut feeling about things. I am usually right on my opinions. | P8: 5
A9: S | C9: 7 | D9: I am very good at making people feel like they belong and are accepted. | P9: 5
A10: E | C10: 8 | D10: I believe in the urgency of life. We must be doing more now to change the world. | P10: 5
A11: T | C11: 9 | D11: I strongly believe that people don't read the word enough. | P11: 5
A12: E | C12: 10 | D12: I believe Jesus is coming back soon, most likely in my lifetime. | P12: 5
A13: T | C13: 11 | D13: I am not afraid to share with other people what I have learned this week. | P13: 5
A14: P | C14: 12 | D14: I frequently get dreams and can see scenarios in my mind. | P14: 5
... A47: S | C47: 45 | D47: I am able to help others have fun and relax. I am good at bringing people together. | P47: 5

Sheet Result
A3: A | B3: =Calcs!L2 -> 0.5 | C3: APOSTLE | D3: =IF(B3=(MAX($B$3:$B$7)),"<< TOP","") -> << TOP
A4: P | B4: =Calcs!M2 -> 0.5 | C4: PROPHET | D4: =IF(B4=(MAX($B$3:$B$7)),"<< TOP","") -> << TOP
A5: E | B5: =Calcs!N2 -> 0.5 | C5: EVANGELIST | D5: =IF(B5=(MAX($B$3:$B$7)),"<< TOP","") -> << TOP
A6: S | B6: =Calcs!O2 -> 0.5 | C6: SHEPHERD | D6: =IF(B6=(MAX($B$3:$B$7)),"<< TOP","") -> << TOP
A7: T | B7: =Calcs!P2 -> 0.5 | C7: TEACHER | D7: =IF(B7=(MAX($B$3:$B$7)),"<< TOP","") -> << TOP

Sheet Calcs
B1: Qu | C1: An | D1: FF | F1: A | G1: P | H1: E | I1: S | J1: T | L1: A | M1: P | N1: E | O1: S | P1: T
F2: =SUM(F3:F47) -> 45 | G2: =SUM(G3:G47) -> 45 | H2: =SUM(H3:H47) -> 45 | I2: =SUM(I3:I47) -> 45 | J2: =SUM(J3:J47) -> 45 | L2: =F2/90 -> 0.5 | M2: =G2/90 -> 0.5 | N2: =H2/90 -> 0.5 | O2: =I2/90 -> 0.5 | P2: =J2/90 -> 0.5 | R2: =AVERAGE(L2:P2) -> 0.5
B3: =Questions!C3 -> 1 | C3: =Questions!P3 -> 5 | D3: A | F3: =IF(D3=$F$1,C3,"") -> 5 | G3: =IF(D3=$G$1,C3,"") | H3: =IF(D3=$H$1,C3,"") | I3: =IF(D3=$I$1,C3,"") | J3: =IF(D3=$J$1,C3,"") | L3: =F2/SUM($F$2:$J$2) -> 0.2 | M3: =G2/SUM($F$2:$J$2) -> 0.2 | N3: =H2/SUM($F$2:$J$2) -> 0.2 | O3: =I2/SUM($F$2:$J$2) -> 0.2 | P3: =J2/SUM($F$2:$J$2) -> 0.2 | R3: =SUM(L3:P3) -> 1
B4: =Questions!C4 -> 2 | C4: =Questions!P4 -> 5 | D4: E | F4: =IF(D4=$F$1,C4,"") | G4: =IF(D4=$G$1,C4,"") | H4: =IF(D4=$H$1,C4,"") -> 5 | I4: =IF(D4=$I$1,C4,"") | J4: =IF(D4=$J$1,C4,"")
B5: =Questions!C5 -> 3 | C5: =Questions!P5 -> 5 | D5: A | F5: =IF(D5=$F$1,C5,"") -> 5 | G5: =IF(D5=$G$1,C5,"") | H5: =IF(D5=$H$1,C5,"") | I5: =IF(D5=$I$1,C5,"") | J5: =IF(D5=$J$1,C5,"")
B6: =Questions!C6 -> 4 | C6: =Questions!P6 -> 5 | D6: E | F6: =IF(D6=$F$1,C6,"") | G6: =IF(D6=$G$1,C6,"") | H6: =IF(D6=$H$1,C6,"") -> 5 | I6: =IF(D6=$I$1,C6,"") | J6: =IF(D6=$J$1,C6,"")
B7: =Questions!C7 -> 5 | C7: =Questions!P7 -> 5 | D7: S | F7: =IF(D7=$F$1,C7,"") | G7: =IF(D7=$G$1,C7,"") | H7: =IF(D7=$H$1,C7,"") | I7: =IF(D7=$I$1,C7,"") -> 5 | J7: =IF(D7=$J$1,C7,"")
B8: =Questions!C8 -> 6 | C8: =Questions!P8 -> 5 | D8: P | F8: =IF(D8=$F$1,C8,"") | G8: =IF(D8=$G$1,C8,"") -> 5 | H8: =IF(D8=$H$1,C8,"") | I8: =IF(D8=$I$1,C8,"") | J8: =IF(D8=$J$1,C8,"")
B9: =Questions!C9 -> 7 | C9: =Questions!P9 -> 5 | D9: S | F9: =IF(D9=$F$1,C9,"") | G9: =IF(D9=$G$1,C9,"") | H9: =IF(D9=$H$1,C9,"") | I9: =IF(D9=$I$1,C9,"") -> 5 | J9: =IF(D9=$J$1,C9,"")
B10: =Questions!C10 -> 8 | C10: =Questions!P10 -> 5 | D10: E | F10: =IF(D10=$F$1,C10,"") | G10: =IF(D10=$G$1,C10,"") | H10: =IF(D10=$H$1,C10,"") -> 5 | I10: =IF(D10=$I$1,C10,"") | J10: =IF(D10=$J$1,C10,"")
B11: =Questions!C11 -> 9 | C11: =Questions!P11 -> 5 | D11: T | F11: =IF(D11=$F$1,C11,"") | G11: =IF(D11=$G$1,C11,"") | H11: =IF(D11=$H$1,C11,"") | I11: =IF(D11=$I$1,C11,"") | J11: =IF(D11=$J$1,C11,"") -> 5
B12: =Questions!C12 -> 10 | C12: =Questions!P12 -> 5 | D12: E | F12: =IF(D12=$F$1,C12,"") | G12: =IF(D12=$G$1,C12,"") | H12: =IF(D12=$H$1,C12,"") -> 5 | I12: =IF(D12=$I$1,C12,"") | J12: =IF(D12=$J$1,C12,"")
B13: =Questions!C13 -> 11 | C13: =Questions!P13 -> 5 | D13: T | F13: =IF(D13=$F$1,C13,"") | G13: =IF(D13=$G$1,C13,"") | H13: =IF(D13=$H$1,C13,"") | I13: =IF(D13=$I$1,C13,"") | J13: =IF(D13=$J$1,C13,"") -> 5
B14: =Questions!C14 -> 12 | C14: =Questions!P14 -> 5 | D14: P | F14: =IF(D14=$F$1,C14,"") | G14: =IF(D14=$G$1,C14,"") -> 5 | H14: =IF(D14=$H$1,C14,"") | I14: =IF(D14=$I$1,C14,"") | J14: =IF(D14=$J$1,C14,"")
B15: =Questions!C15 -> 13 | C15: =Questions!P15 -> 5 | D15: A | F15: =IF(D15=$F$1,C15,"") -> 5 | G15: =IF(D15=$G$1,C15,"") | H15: =IF(D15=$H$1,C15,"") | I15: =IF(D15=$I$1,C15,"") | J15: =IF(D15=$J$1,C15,"")
... B47: =Questions!C47 -> 45 | C47: =Questions!P47 -> 5 | D47: S | F47: =IF(D47=$F$1,C47,"") | G47: =IF(D47=$G$1,C47,"") | H47: =IF(D47=$H$1,C47,"") | I47: =IF(D47=$I$1,C47,"") -> 5 | J47: =IF(D47=$J$1,C47,"")

Sheet Sheet2
A1: A | C1: 1
A2: E | C2: 2
A3: A | C3: 3
A4: E | C4: 4
A5: S | C5: 5
A6: P | C6: 6
A7: S | C7: 7
A8: E | C8: 8
A9: T | C9: 9
A10: E | C10: 10
A11: T | C11: 11
A12: P | C12: 12
... A45: S | C45: 45
